BEGIN:VCALENDAR
VERSION:2.0
PRODID:-//Linne CSD - ECPv6.15.20//NONSGML v1.0//EN
CALSCALE:GREGORIAN
METHOD:PUBLISH
X-ORIGINAL-URL:https://linne-csd.org
X-WR-CALDESC:Events for Linne CSD
REFRESH-INTERVAL;VALUE=DURATION:PT1H
X-Robots-Tag:noindex
X-PUBLISHED-TTL:PT1H
BEGIN:VTIMEZONE
TZID:America/Los_Angeles
BEGIN:DAYLIGHT
TZOFFSETFROM:-0800
TZOFFSETTO:-0700
TZNAME:PDT
DTSTART:20250309T100000
END:DAYLIGHT
BEGIN:STANDARD
TZOFFSETFROM:-0700
TZOFFSETTO:-0800
TZNAME:PST
DTSTART:20251102T090000
END:STANDARD
BEGIN:DAYLIGHT
TZOFFSETFROM:-0800
TZOFFSETTO:-0700
TZNAME:PDT
DTSTART:20260308T100000
END:DAYLIGHT
BEGIN:STANDARD
TZOFFSETFROM:-0700
TZOFFSETTO:-0800
TZNAME:PST
DTSTART:20261101T090000
END:STANDARD
BEGIN:DAYLIGHT
TZOFFSETFROM:-0800
TZOFFSETTO:-0700
TZNAME:PDT
DTSTART:20270314T100000
END:DAYLIGHT
BEGIN:STANDARD
TZOFFSETFROM:-0700
TZOFFSETTO:-0800
TZNAME:PST
DTSTART:20271107T090000
END:STANDARD
END:VTIMEZONE
BEGIN:VEVENT
DTSTART;TZID=America/Los_Angeles:20260121T183000
DTEND;TZID=America/Los_Angeles:20260121T193000
DTSTAMP:20260422T152615
CREATED:20260115T234851Z
LAST-MODIFIED:20260127T013639Z
UID:1397-1769020200-1769023800@linne-csd.org
SUMMARY:FY2025-26 Q3 Quarterly Board Meeting
DESCRIPTION:LCSD 01-21-26 Meeting Agenda\nLCSD 2025-26 Q3 Quarterly Meeting Minutes - DRAFT v2\n\nMeeting material by Agenda section:\n2. Consent Items\nLCSD 10-08-25 Meeting Minutes - DRAFT\nLCSD 11-19-25 Special Meeting Minutes - DRAFT\n2026_01.21_LCSD_Board Mtg_Treasurer Rpt\n\n3. Old Business\nLCSD 2026 Road Maintenance Scope\nLCSD 2026 Road Maintenance Scope Map\n\n4. New Business\nLinne CSD_3-30-22 Map\nPotential SOI Stagecoach APNs\nDunning and Dresser Tract Assessor Map\nLinne-CSD-Presentation-Jan-21-2026-CSDA
URL:https://linne-csd.org/event/fy2025-26-q3-quarterly-board-meeting/
LOCATION:Cal Fire SLO Station\, Cal Fire SLO County Station 50 6055 Webster Rd. Creston\, CA 93432
CATEGORIES:Quarterly Board Meeting
END:VEVENT
BEGIN:VEVENT
DTSTART;TZID=America/Los_Angeles:20260128T073000
DTEND;TZID=America/Los_Angeles:20260128T170000
DTSTAMP:20260422T152615
CREATED:20260121T172714Z
LAST-MODIFIED:20260121T172714Z
UID:1764-1769585400-1769619600@linne-csd.org
SUMMARY:Weed Abatement Spraying
DESCRIPTION:If you do NOT want your property line sprayed\, please put up signs saying NO SPRAY.
URL:https://linne-csd.org/event/weed-abatement-spraying/
END:VEVENT
END:VCALENDAR